BEGIN:VCALENDAR
VERSION:2.0
PRODID:-//12 North Sports Bar - ECPv4.6.26//NONSGML v1.0//EN
CALSCALE:GREGORIAN
METHOD:PUBLISH
X-WR-CALNAME:12 North Sports Bar
X-ORIGINAL-URL:https://12nsportsbar.com
X-WR-CALDESC:Events for 12 North Sports Bar
BEGIN:VEVENT
DTSTART;TZID=UTC+0:20250927T183000
DTEND;TZID=UTC+0:20250927T235900
DTSTAMP:20260422T022420
CREATED:20250925T212016Z
LAST-MODIFIED:20250927T182532Z
UID:2938-1758997800-1759017540@12nsportsbar.com
SUMMARY:The Out of Towners w/Goldie Rocks & Screaming Nurse
DESCRIPTION:Live music featuring… Donnie Bateman and the Out of Towners with special guests! \nGOLDIE ROCKS 6:30 pmSCREAMING NURSE 7-8 pmTHE OUT OF TOWNERS 8-11 pm \n
URL:https://12nsportsbar.com/event/the-out-of-towners/
LOCATION:12 North Sports Bar\, 10125 Mulaney Rd\, Marcy\, NY\, 13403\, United States
GEO:43.1425574;-75.2164097
X-APPLE-STRUCTURED-LOCATION;VALUE=URI;X-ADDRESS=12 North Sports Bar 10125 Mulaney Rd Marcy NY 13403 United States;X-APPLE-RADIUS=500;X-TITLE=10125 Mulaney Rd:geo:-75.2164097,43.1425574
CATEGORIES:Live Music
ATTACH;FMTTYPE=image/jpeg:https://12nsportsbar.com/wp-content/uploads/2025/09/the-out-of-towners.jpg
END:VEVENT
END:VCALENDAR