BEGIN:VCALENDAR
VERSION:2.0
PRODID:-//12 North Sports Bar - ECPv4.6.26//NONSGML v1.0//EN
CALSCALE:GREGORIAN
METHOD:PUBLISH
X-WR-CALNAME:12 North Sports Bar
X-ORIGINAL-URL:https://12nsportsbar.com
X-WR-CALDESC:Events for 12 North Sports Bar
BEGIN:VEVENT
DTSTART;TZID=UTC+0:20220420T183000
DTEND;TZID=UTC+0:20220420T230000
DTSTAMP:20260422T233512
CREATED:20220326T181436Z
LAST-MODIFIED:20220423T170900Z
UID:2268-1650479400-1650495600@12nsportsbar.com
SUMMARY:Mutt Farm
DESCRIPTION:Mutt Farm performs live on April 20th at 12 North Sports Bar. Doors open at 6:00 PM. \n
URL:https://12nsportsbar.com/event/mutt-farm/
LOCATION:12 North Sports Bar\, 10125 Mulaney Rd\, Marcy\, NY\, 13403\, United States
GEO:43.1425574;-75.2164097
X-APPLE-STRUCTURED-LOCATION;VALUE=URI;X-ADDRESS=12 North Sports Bar 10125 Mulaney Rd Marcy NY 13403 United States;X-APPLE-RADIUS=500;X-TITLE=10125 Mulaney Rd:geo:-75.2164097,43.1425574
CATEGORIES:Live Music
ATTACH;FMTTYPE=image/jpeg:https://12nsportsbar.com/wp-content/uploads/2022/03/mutt-farm.jpg
ORGANIZER;CN="12%20North%20Sports%20Bar":MAILTO:info@12northsportsbar.com
END:VEVENT
END:VCALENDAR