BEGIN:VCALENDAR
VERSION:2.0
PRODID:-//12 North Sports Bar - ECPv4.6.26//NONSGML v1.0//EN
CALSCALE:GREGORIAN
METHOD:PUBLISH
X-WR-CALNAME:12 North Sports Bar
X-ORIGINAL-URL:https://12nsportsbar.com
X-WR-CALDESC:Events for 12 North Sports Bar
BEGIN:VEVENT
DTSTART;TZID=UTC+0:20220408T183000
DTEND;TZID=UTC+0:20220408T230000
DTSTAMP:20260423T185752
CREATED:20220326T175140Z
LAST-MODIFIED:20220326T175305Z
UID:2259-1649442600-1649458800@12nsportsbar.com
SUMMARY:The I90 Tour
DESCRIPTION:The i90 tour presented by Three Diamond Marketing and Management and Breakdown Central.\n\nBands include:\n\nFight From Within\nMy Own Will\nMurder in Rue Morgue\nA Greater Danger\nSymmetrical Defiance\nThe Fallen Prodigy\n\nDoors 6:00 pm\nMusic 6:30 pm.\n\n$10.00 at the door.\n
URL:https://12nsportsbar.com/event/the-i90-tour/
LOCATION:12 North Sports Bar\, 10125 Mulaney Rd\, Marcy\, NY\, 13403\, United States
GEO:43.1425574;-75.2164097
X-APPLE-STRUCTURED-LOCATION;VALUE=URI;X-ADDRESS=12 North Sports Bar 10125 Mulaney Rd Marcy NY 13403 United States;X-APPLE-RADIUS=500;X-TITLE=10125 Mulaney Rd:geo:-75.2164097,43.1425574
CATEGORIES:Live Music
ATTACH;FMTTYPE=image/jpeg:https://12nsportsbar.com/wp-content/uploads/2022/03/the_i90_tour.jpg
ORGANIZER;CN="12%20North%20Sports%20Bar":MAILTO:info@12northsportsbar.com
END:VEVENT
END:VCALENDAR